BEGIN:VCALENDAR
VERSION:2.0
PRODID:icalendar-ruby
CALSCALE:GREGORIAN
METHOD:PUBLISH
BEGIN:VEVENT
DTSTAMP:20260423T173544Z
UID:23-942054@christianchurchofgillette.com
DTSTART:20260820T143000Z
DTEND:20260820T163000Z
CLASS:PUBLIC
CREATED:20260423T085738
DESCRIPTION:Study starts at 8:30 AM for Fellowship then the bible study sta
 rts at 9:30
LAST-MODIFIED:20260423T085738
LOCATION:100 Flying Circle Drive\, Gillette\, WY
SUMMARY:Ladies Bible Study
URL;VALUE=URI:https://www.christianchurchofgillette.com/events/ladies-bible
 -study/2026-08-20
ATTACH;FILENAME=Ladies Bible Study.png;FMTTYPE=image/png:https://dq5pwpg1q8
 ru0.cloudfront.net/2024/07/28/23/00/42/6ff161cf-1e57-4f4d-beab-085395a5502
 2/Ladies%20Bible%20Study.png
END:VEVENT
END:VCALENDAR
