BEGIN:VCALENDAR
VERSION:2.0
PRODID:icalendar-ruby
CALSCALE:GREGORIAN
METHOD:PUBLISH
BEGIN:VEVENT
DTSTAMP:20260423T234806Z
UID:23-944547@christianchurchofgillette.com
DTSTART:20260917T143000Z
DTEND:20260917T163000Z
CLASS:PUBLIC
CREATED:20260423T174237
DESCRIPTION:Study starts at 8:30 AM for Fellowship then the bible study sta
 rts at 9:30
LAST-MODIFIED:20260423T174237
LOCATION:100 Flying Circle Drive\, Gillette\, WY
SUMMARY:Ladies Bible Study
URL;VALUE=URI:https://www.christianchurchofgillette.com/events/ladies-bible
 -study/2026-09-17
ATTACH;FILENAME=Ladies Bible Study.png;FMTTYPE=image/png:https://dq5pwpg1q8
 ru0.cloudfront.net/2024/07/28/23/00/42/6ff161cf-1e57-4f4d-beab-085395a5502
 2/Ladies%20Bible%20Study.png
END:VEVENT
END:VCALENDAR
