BEGIN:VCALENDAR
VERSION:2.0
PRODID:icalendar-ruby
CALSCALE:GREGORIAN
METHOD:PUBLISH
BEGIN:VEVENT
DTSTAMP:20260425T161428Z
UID:22-951911@christianchurchofgillette.com
DTSTART:20261105T013000Z
DTEND:20261105T030000Z
CLASS:PUBLIC
CREATED:20260425T083553
DESCRIPTION:This group meets in homes and enjoys a meal and then an in dept
 h bible study.  Please contact church or Mike Mondle for address of the n
 ext meeting.
LAST-MODIFIED:20260425T083553
LOCATION:Home Church
SUMMARY:Study and A Meal
URL;VALUE=URI:https://www.christianchurchofgillette.com/events/study-and-a-
 meal/2026-11-04
ATTACH;FILENAME=SaM Group.png;FMTTYPE=image/png:https://dq5pwpg1q8ru0.cloud
 front.net/2024/07/28/22/56/22/5b6eb2a6-65a4-4ec4-8ff4-623be1f79223/SaM%20G
 roup.png
END:VEVENT
END:VCALENDAR
